BEGIN:VCALENDAR
VERSION:2.0
PRODID:-//Leukbachschützen Hubertus Weiten e.V. - ECPv6.15.20//NONSGML v1.0//EN
CALSCALE:GREGORIAN
METHOD:PUBLISH
X-WR-CALNAME:Leukbachschützen Hubertus Weiten e.V.
X-ORIGINAL-URL:https://lbs.leukbachschuetzen.de
X-WR-CALDESC:Veranstaltungen für Leukbachschützen Hubertus Weiten e.V.
REFRESH-INTERVAL;VALUE=DURATION:PT1H
X-Robots-Tag:noindex
X-PUBLISHED-TTL:PT1H
BEGIN:VTIMEZONE
TZID:Europe/Berlin
BEGIN:DAYLIGHT
TZOFFSETFROM:+0100
TZOFFSETTO:+0200
TZNAME:CEST
DTSTART:20220327T010000
END:DAYLIGHT
BEGIN:STANDARD
TZOFFSETFROM:+0200
TZOFFSETTO:+0100
TZNAME:CET
DTSTART:20221030T010000
END:STANDARD
BEGIN:DAYLIGHT
TZOFFSETFROM:+0100
TZOFFSETTO:+0200
TZNAME:CEST
DTSTART:20230326T010000
END:DAYLIGHT
BEGIN:STANDARD
TZOFFSETFROM:+0200
TZOFFSETTO:+0100
TZNAME:CET
DTSTART:20231029T010000
END:STANDARD
BEGIN:DAYLIGHT
TZOFFSETFROM:+0100
TZOFFSETTO:+0200
TZNAME:CEST
DTSTART:20240331T010000
END:DAYLIGHT
BEGIN:STANDARD
TZOFFSETFROM:+0200
TZOFFSETTO:+0100
TZNAME:CET
DTSTART:20241027T010000
END:STANDARD
BEGIN:DAYLIGHT
TZOFFSETFROM:+0100
TZOFFSETTO:+0200
TZNAME:CEST
DTSTART:20250330T010000
END:DAYLIGHT
BEGIN:STANDARD
TZOFFSETFROM:+0200
TZOFFSETTO:+0100
TZNAME:CET
DTSTART:20251026T010000
END:STANDARD
END:VTIMEZONE
BEGIN:VEVENT
DTSTART;TZID=Europe/Berlin:20240921T190000
DTEND;TZID=Europe/Berlin:20240921T230000
DTSTAMP:20260421T130515
CREATED:20240817T101722Z
LAST-MODIFIED:20240817T101857Z
UID:7828-1726945200-1726959600@lbs.leukbachschuetzen.de
SUMMARY:Unser Dorf schießt 2024
DESCRIPTION:Am Samstag\, den 21. September\, veranstalten die Leukbachschützen Hubertus Weiten ab 19 Uhr wieder das beliebte „Unser Dorf schießt“ im Schützenhaus in Weiten. Dazu sind alle Vereine\, Clubs\, Mannschaften und sonstige Gruppierungen ganz herzlich eingeladen. \nDen Siegern winken die folgenden Barpreise: \n\nPlatz: 50\,00 €\nPlatz: 30\,00 €\nPlatz: 20\,00 €\n\nFür den 1. Platz gibt es darüber hinaus einen Wanderpokal zu gewinnen. \nMannschaftsmeldungen werden bis Mittwoch\, den 04.09.2024\, während der regulären Öffnungszeiten im Schützenhaus oder per E-Mail an info@leukbachschuetzen.de entgegengenommen. \nVom 04.09. bis 20.09.2024 kann Mittwochs ab 19:00 Uhr und Freitags ab 20 Uhr kostenlos trainiert werden. Das Wettkampfreglement findet ihr unter Link. \nÜber den Großbildschirm im Gastraum können die Zuschauer den Wettkampf der Mannschaften Live verfolgen und mitfiebern. \nWir freuen uns darauf\, ein paar schöne Stunden mit euch zu verbringen.
URL:https://lbs.leukbachschuetzen.de/event/7828/
CATEGORIES:Allgemein
ATTACH;FMTTYPE=image/jpeg:https://lbs.leukbachschuetzen.de/wp-content/uploads/2022/07/20220723_195233-scaled.jpg
ORGANIZER;CN="Leukbachsch%C3%BCtzen Weiten":MAILTO:info@leukbachschuetzen.de
END:VEVENT
BEGIN:VEVENT
DTSTART;TZID=Europe/Berlin:20240712T180000
DTEND;TZID=Europe/Berlin:20240714T180000
DTSTAMP:20260421T130515
CREATED:20240223T142846Z
LAST-MODIFIED:20240324T161148Z
UID:7707-1720807200-1720980000@lbs.leukbachschuetzen.de
SUMMARY:50-jähriges Jubiläum Leukbachschützen
DESCRIPTION:vom 12. bis 14.07.2024
URL:https://lbs.leukbachschuetzen.de/event/50-jaehriges-jubilaeum-leukbachschuetzen/
LOCATION:Schützenhaus Weiten\, Luxemburgerstraße 76\, Weiten\, Saarland\, 66693\, Deutschland
CATEGORIES:Allgemein
ATTACH;FMTTYPE=image/jpeg:https://lbs.leukbachschuetzen.de/wp-content/uploads/2017/09/cropped-wappen_leukbachschuetzen-e1506069419381-1-e1506069582679.jpg
END:VEVENT
BEGIN:VEVENT
DTSTART;TZID=Europe/Berlin:20240620T180000
DTEND;TZID=Europe/Berlin:20240620T190000
DTSTAMP:20260421T130515
CREATED:20240125T175624Z
LAST-MODIFIED:20240125T175624Z
UID:7634-1718906400-1718910000@lbs.leukbachschuetzen.de
SUMMARY:Rundenkampf LGA
DESCRIPTION:Weiten\n–\nLautzkirchen
URL:https://lbs.leukbachschuetzen.de/event/rundenkampf-lga-24/
LOCATION:Schützenhaus Weiten\, Luxemburgerstraße 76\, Weiten\, Saarland\, 66693\, Deutschland
CATEGORIES:Rundenkämpfe
END:VEVENT
BEGIN:VEVENT
DTSTART;TZID=Europe/Berlin:20240606T180000
DTEND;TZID=Europe/Berlin:20240606T190000
DTSTAMP:20260421T130515
CREATED:20240125T175554Z
LAST-MODIFIED:20240125T175554Z
UID:7632-1717696800-1717700400@lbs.leukbachschuetzen.de
SUMMARY:Rundenkampf LGA
DESCRIPTION:Weiten\n–\nKarlsbrunn 3
URL:https://lbs.leukbachschuetzen.de/event/rundenkampf-lga-23/
LOCATION:Schützenhaus Weiten\, Luxemburgerstraße 76\, Weiten\, Saarland\, 66693\, Deutschland
CATEGORIES:Rundenkämpfe
END:VEVENT
BEGIN:VEVENT
DTSTART;TZID=Europe/Berlin:20240508T180000
DTEND;TZID=Europe/Berlin:20240508T190000
DTSTAMP:20260421T130515
CREATED:20240125T175522Z
LAST-MODIFIED:20240125T175522Z
UID:7630-1715191200-1715194800@lbs.leukbachschuetzen.de
SUMMARY:Rundenkampf LGA
DESCRIPTION:Weiten\n–\nKarlsbrunn 2
URL:https://lbs.leukbachschuetzen.de/event/rundenkampf-lga-22/
LOCATION:Schützenhaus Weiten\, Luxemburgerstraße 76\, Weiten\, Saarland\, 66693\, Deutschland
CATEGORIES:Rundenkämpfe
END:VEVENT
BEGIN:VEVENT
DTSTART;TZID=Europe/Berlin:20240426T200000
DTEND;TZID=Europe/Berlin:20240426T210000
DTSTAMP:20260421T130515
CREATED:20240223T153155Z
LAST-MODIFIED:20240317T105843Z
UID:7719-1714161600-1714165200@lbs.leukbachschuetzen.de
SUMMARY:Jahreshauptversammlung 2024
DESCRIPTION:Einladung zur Jahreshauptversammlung 2024
URL:https://lbs.leukbachschuetzen.de/event/jahreshauptversammlung-2024/
LOCATION:Schützenhaus Weiten\, Luxemburgerstraße 76\, Weiten\, Saarland\, 66693\, Deutschland
CATEGORIES:Intern
ATTACH;FMTTYPE=image/jpeg:https://lbs.leukbachschuetzen.de/wp-content/uploads/2017/09/cropped-wappen_leukbachschuetzen-e1506069419381-1-e1506069582679.jpg
END:VEVENT
BEGIN:VEVENT
DTSTART;TZID=Europe/Berlin:20240425T180000
DTEND;TZID=Europe/Berlin:20240425T190000
DTSTAMP:20260421T130515
CREATED:20240125T175441Z
LAST-MODIFIED:20240125T175441Z
UID:7628-1714068000-1714071600@lbs.leukbachschuetzen.de
SUMMARY:Rundenkampf LGA
DESCRIPTION:Eppelborn 2\n–\nWeiten
URL:https://lbs.leukbachschuetzen.de/event/rundenkampf-lga-21/
CATEGORIES:Rundenkämpfe
END:VEVENT
BEGIN:VEVENT
DTSTART;TZID=Europe/Berlin:20240411T180000
DTEND;TZID=Europe/Berlin:20240411T190000
DTSTAMP:20260421T130515
CREATED:20240125T175355Z
LAST-MODIFIED:20240125T175355Z
UID:7626-1712858400-1712862000@lbs.leukbachschuetzen.de
SUMMARY:Rundenkampf LGA
DESCRIPTION:Lautzkirchen\n–\nWeiten
URL:https://lbs.leukbachschuetzen.de/event/rundenkampf-lga-20/
CATEGORIES:Rundenkämpfe
END:VEVENT
BEGIN:VEVENT
DTSTART;TZID=Europe/Berlin:20240331T100000
DTEND;TZID=Europe/Berlin:20240331T170000
DTSTAMP:20260421T130515
CREATED:20240223T150221Z
LAST-MODIFIED:20240223T150221Z
UID:7713-1711879200-1711904400@lbs.leukbachschuetzen.de
SUMMARY:Ostereierschießen
DESCRIPTION:
URL:https://lbs.leukbachschuetzen.de/event/ostereierschiessen-4/
LOCATION:Schützenhaus Weiten\, Luxemburgerstraße 76\, Weiten\, Saarland\, 66693\, Deutschland
CATEGORIES:Allgemein
END:VEVENT
BEGIN:VEVENT
DTSTART;TZID=Europe/Berlin:20240328T180000
DTEND;TZID=Europe/Berlin:20240328T190000
DTSTAMP:20260421T130515
CREATED:20240125T175321Z
LAST-MODIFIED:20240125T175321Z
UID:7624-1711648800-1711652400@lbs.leukbachschuetzen.de
SUMMARY:Rundenkampf LGA
DESCRIPTION:Karlsbrunn 3\n–\nWeiten
URL:https://lbs.leukbachschuetzen.de/event/rundenkampf-lga-19/
CATEGORIES:Rundenkämpfe
END:VEVENT
BEGIN:VEVENT
DTSTART;TZID=Europe/Berlin:20240310T090000
DTEND;TZID=Europe/Berlin:20240310T100000
DTSTAMP:20260421T130515
CREATED:20231005T122929Z
LAST-MODIFIED:20231005T122929Z
UID:7328-1710061200-1710064800@lbs.leukbachschuetzen.de
SUMMARY:Rundenkampf Spopi1
DESCRIPTION:Illingen 1\n–\nWeiten 1
URL:https://lbs.leukbachschuetzen.de/event/rundenkampf-spopi1-16/
CATEGORIES:Rundenkämpfe
END:VEVENT
BEGIN:VEVENT
DTSTART;TZID=Europe/Berlin:20240229T180000
DTEND;TZID=Europe/Berlin:20240229T190000
DTSTAMP:20260421T130515
CREATED:20240125T175236Z
LAST-MODIFIED:20240125T175236Z
UID:7622-1709229600-1709233200@lbs.leukbachschuetzen.de
SUMMARY:Rundenkampf LGA
DESCRIPTION:Karlsbrunn 2\n–\nWeiten
URL:https://lbs.leukbachschuetzen.de/event/rundenkampf-lga-18/
CATEGORIES:Rundenkämpfe
END:VEVENT
BEGIN:VEVENT
DTSTART;TZID=Europe/Berlin:20240225T090000
DTEND;TZID=Europe/Berlin:20240225T100000
DTSTAMP:20260421T130515
CREATED:20231006T103418Z
LAST-MODIFIED:20231006T103418Z
UID:7359-1708851600-1708855200@lbs.leukbachschuetzen.de
SUMMARY:Rundenkampf Spopi1
DESCRIPTION:Weiten 1\n–\nElm
URL:https://lbs.leukbachschuetzen.de/event/rundenkampf-spopi1-20/
LOCATION:Schützenhaus Weiten\, Luxemburgerstraße 76\, Weiten\, Saarland\, 66693\, Deutschland
CATEGORIES:Rundenkämpfe
END:VEVENT
BEGIN:VEVENT
DTSTART;TZID=Europe/Berlin:20240224T190000
DTEND;TZID=Europe/Berlin:20240224T200000
DTSTAMP:20260421T130515
CREATED:20231006T103343Z
LAST-MODIFIED:20231006T103343Z
UID:7357-1708801200-1708804800@lbs.leukbachschuetzen.de
SUMMARY:Rundenkampf LP1
DESCRIPTION:Bilsdorf\n–\nWeiten 1
URL:https://lbs.leukbachschuetzen.de/event/rundenkampf-lp1-45/
CATEGORIES:Rundenkämpfe
END:VEVENT
BEGIN:VEVENT
DTSTART;TZID=Europe/Berlin:20240224T170000
DTEND;TZID=Europe/Berlin:20240224T180000
DTSTAMP:20260421T130515
CREATED:20231006T103304Z
LAST-MODIFIED:20231006T103304Z
UID:7355-1708794000-1708797600@lbs.leukbachschuetzen.de
SUMMARY:Rundenkampf LP2
DESCRIPTION:Weiten 2\n–\nMettlach 2
URL:https://lbs.leukbachschuetzen.de/event/rundenkampf-lp2-37/
LOCATION:Schützenhaus Weiten\, Luxemburgerstraße 76\, Weiten\, Saarland\, 66693\, Deutschland
CATEGORIES:Rundenkämpfe
END:VEVENT
BEGIN:VEVENT
DTSTART;TZID=Europe/Berlin:20240215T180000
DTEND;TZID=Europe/Berlin:20240215T190000
DTSTAMP:20260421T130515
CREATED:20240125T175155Z
LAST-MODIFIED:20240125T175155Z
UID:7620-1708020000-1708023600@lbs.leukbachschuetzen.de
SUMMARY:Rundenkampf LGA
DESCRIPTION:Weiten\n–\nEppelborn 2
URL:https://lbs.leukbachschuetzen.de/event/rundenkampf-lga-17/
LOCATION:Schützenhaus Weiten\, Luxemburgerstraße 76\, Weiten\, Saarland\, 66693\, Deutschland
CATEGORIES:Rundenkämpfe
END:VEVENT
BEGIN:VEVENT
DTSTART;TZID=Europe/Berlin:20240204T090000
DTEND;TZID=Europe/Berlin:20240204T100000
DTSTAMP:20260421T130515
CREATED:20231006T103219Z
LAST-MODIFIED:20231006T103219Z
UID:7353-1707037200-1707040800@lbs.leukbachschuetzen.de
SUMMARY:Rundenkampf Spopi1
DESCRIPTION:Bliesen\n–\nWeiten 1
URL:https://lbs.leukbachschuetzen.de/event/rundenkampf-spopi1-19/
CATEGORIES:Rundenkämpfe
END:VEVENT
BEGIN:VEVENT
DTSTART;TZID=Europe/Berlin:20240203T190000
DTEND;TZID=Europe/Berlin:20240203T200000
DTSTAMP:20260421T130515
CREATED:20231006T103140Z
LAST-MODIFIED:20231006T103140Z
UID:7351-1706986800-1706990400@lbs.leukbachschuetzen.de
SUMMARY:Rundenkampf LP1
DESCRIPTION:Weiten 1\n–\nHofeld
URL:https://lbs.leukbachschuetzen.de/event/rundenkampf-lp1-44/
LOCATION:Schützenhaus Weiten\, Luxemburgerstraße 76\, Weiten\, Saarland\, 66693\, Deutschland
CATEGORIES:Rundenkämpfe
END:VEVENT
BEGIN:VEVENT
DTSTART;TZID=Europe/Berlin:20240203T170000
DTEND;TZID=Europe/Berlin:20240203T180000
DTSTAMP:20260421T130515
CREATED:20231006T103106Z
LAST-MODIFIED:20231006T103106Z
UID:7349-1706979600-1706983200@lbs.leukbachschuetzen.de
SUMMARY:Rundenkampf LP2
DESCRIPTION:Ensdorf 2\n–\nWeiten 2
URL:https://lbs.leukbachschuetzen.de/event/rundenkampf-lp2-36/
CATEGORIES:Rundenkämpfe
END:VEVENT
BEGIN:VEVENT
DTSTART;TZID=Europe/Berlin:20240121T090000
DTEND;TZID=Europe/Berlin:20240121T100000
DTSTAMP:20260421T130515
CREATED:20231006T103015Z
LAST-MODIFIED:20231006T103015Z
UID:7347-1705827600-1705831200@lbs.leukbachschuetzen.de
SUMMARY:Rundenkampf Spopi1
DESCRIPTION:Weiten 1\n–\nAlsweiler 1
URL:https://lbs.leukbachschuetzen.de/event/rundenkampf-spopi1-18/
LOCATION:Schützenhaus Weiten\, Luxemburgerstraße 76\, Weiten\, Saarland\, 66693\, Deutschland
CATEGORIES:Rundenkämpfe
END:VEVENT
BEGIN:VEVENT
DTSTART;TZID=Europe/Berlin:20240120T190000
DTEND;TZID=Europe/Berlin:20240120T200000
DTSTAMP:20260421T130515
CREATED:20231006T102933Z
LAST-MODIFIED:20231006T102933Z
UID:7345-1705777200-1705780800@lbs.leukbachschuetzen.de
SUMMARY:Rundenkampf LP1
DESCRIPTION:Bliesen 1\n–\nWeiten 1
URL:https://lbs.leukbachschuetzen.de/event/rundenkampf-lp1-43/
CATEGORIES:Rundenkämpfe
END:VEVENT
BEGIN:VEVENT
DTSTART;TZID=Europe/Berlin:20240120T170000
DTEND;TZID=Europe/Berlin:20240120T180000
DTSTAMP:20260421T130515
CREATED:20231006T102853Z
LAST-MODIFIED:20231006T102853Z
UID:7343-1705770000-1705773600@lbs.leukbachschuetzen.de
SUMMARY:Rundenkampf LP2
DESCRIPTION:Diefflen 5\n–\nWeiten 2
URL:https://lbs.leukbachschuetzen.de/event/rundenkampf-lp2-35/
CATEGORIES:Rundenkämpfe
END:VEVENT
BEGIN:VEVENT
DTSTART;TZID=Europe/Berlin:20240114T100000
DTEND;TZID=Europe/Berlin:20240114T110000
DTSTAMP:20260421T130515
CREATED:20231006T102811Z
LAST-MODIFIED:20231006T102811Z
UID:7341-1705226400-1705230000@lbs.leukbachschuetzen.de
SUMMARY:Rundenkampf LG1
DESCRIPTION:Weiten 1\n–\nBliesmengen-Bolchen 1
URL:https://lbs.leukbachschuetzen.de/event/rundenkampf-lg1-57/
CATEGORIES:Rundenkämpfe
END:VEVENT
BEGIN:VEVENT
DTSTART;TZID=Europe/Berlin:20240114T100000
DTEND;TZID=Europe/Berlin:20240114T100000
DTSTAMP:20260421T130515
CREATED:20231006T102728Z
LAST-MODIFIED:20231006T102728Z
UID:7339-1705226400-1705226400@lbs.leukbachschuetzen.de
SUMMARY:Rundenkampf LG1
DESCRIPTION:Weiten 1\n–\nOberlinxweiler 1
URL:https://lbs.leukbachschuetzen.de/event/rundenkampf-lg1-56/
CATEGORIES:Rundenkämpfe
END:VEVENT
BEGIN:VEVENT
DTSTART;TZID=Europe/Berlin:20240113T150000
DTEND;TZID=Europe/Berlin:20240113T160000
DTSTAMP:20260421T130515
CREATED:20231006T102649Z
LAST-MODIFIED:20231006T102649Z
UID:7337-1705158000-1705161600@lbs.leukbachschuetzen.de
SUMMARY:Rundenkampf Spopi2
DESCRIPTION:Diefflen 2\n–\nWeiten 2
URL:https://lbs.leukbachschuetzen.de/event/rundenkampf-spopi2-14/
CATEGORIES:Rundenkämpfe
END:VEVENT
BEGIN:VEVENT
DTSTART;TZID=Europe/Berlin:20240113T130000
DTEND;TZID=Europe/Berlin:20240113T230000
DTSTAMP:20260421T130515
CREATED:20231209T160143Z
LAST-MODIFIED:20231209T160152Z
UID:7510-1705150800-1705186800@lbs.leukbachschuetzen.de
SUMMARY:Jahresabschlussfeier 2023
DESCRIPTION:
URL:https://lbs.leukbachschuetzen.de/event/jahresabschlussfeier-2023/
LOCATION:Schützenhaus Weiten\, Luxemburgerstraße 76\, Weiten\, Saarland\, 66693\, Deutschland
CATEGORIES:Intern
ATTACH;FMTTYPE=image/jpeg:https://lbs.leukbachschuetzen.de/wp-content/uploads/2017/09/wappen_leukbachschuetzen-e1506069419381-1-e1506069582679.jpg
END:VEVENT
BEGIN:VEVENT
DTSTART;TZID=Europe/Berlin:20240107T090000
DTEND;TZID=Europe/Berlin:20240107T100000
DTSTAMP:20260421T130515
CREATED:20231006T102614Z
LAST-MODIFIED:20231006T102614Z
UID:7335-1704618000-1704621600@lbs.leukbachschuetzen.de
SUMMARY:Rundenkampf Spopi1
DESCRIPTION:Weiten 1\n–\nReitscheid
URL:https://lbs.leukbachschuetzen.de/event/rundenkampf-spopi1-17/
LOCATION:Schützenhaus Weiten\, Luxemburgerstraße 76\, Weiten\, Saarland\, 66693\, Deutschland
CATEGORIES:Rundenkämpfe
END:VEVENT
BEGIN:VEVENT
DTSTART;TZID=Europe/Berlin:20240106T190000
DTEND;TZID=Europe/Berlin:20240106T200000
DTSTAMP:20260421T130515
CREATED:20231006T102535Z
LAST-MODIFIED:20231006T102535Z
UID:7333-1704567600-1704571200@lbs.leukbachschuetzen.de
SUMMARY:Rundenkampf LP1
DESCRIPTION:Weiten 1\n–\nDörsdorf
URL:https://lbs.leukbachschuetzen.de/event/rundenkampf-lp1-42/
LOCATION:Schützenhaus Weiten\, Luxemburgerstraße 76\, Weiten\, Saarland\, 66693\, Deutschland
CATEGORIES:Rundenkämpfe
END:VEVENT
BEGIN:VEVENT
DTSTART;TZID=Europe/Berlin:20240106T170000
DTEND;TZID=Europe/Berlin:20240106T180000
DTSTAMP:20260421T130515
CREATED:20231006T102458Z
LAST-MODIFIED:20231006T102458Z
UID:7331-1704560400-1704564000@lbs.leukbachschuetzen.de
SUMMARY:Rundenkampf LP2
DESCRIPTION:Weiten 2\n–\nPachten 1
URL:https://lbs.leukbachschuetzen.de/event/rundenkampf-lp2-34/
LOCATION:Schützenhaus Weiten\, Luxemburgerstraße 76\, Weiten\, Saarland\, 66693\, Deutschland
CATEGORIES:Rundenkämpfe
END:VEVENT
BEGIN:VEVENT
DTSTART;TZID=Europe/Berlin:20231216T150000
DTEND;TZID=Europe/Berlin:20231216T160000
DTSTAMP:20260421T130515
CREATED:20231005T122832Z
LAST-MODIFIED:20231005T122832Z
UID:7326-1702738800-1702742400@lbs.leukbachschuetzen.de
SUMMARY:Rundenkampf Spopi2
DESCRIPTION:Weiten 2\n–\nBritten 1
URL:https://lbs.leukbachschuetzen.de/event/rundenkampf-spopi2-13/
LOCATION:Schützenhaus Weiten\, Luxemburgerstraße 76\, Weiten\, Saarland\, 66693\, Deutschland
CATEGORIES:Rundenkämpfe
END:VEVENT
END:VCALENDAR